BEGIN:VCALENDAR
VERSION:2.0
PRODID:-//Robert Trebor - ECPv6.15.20//NONSGML v1.0//EN
CALSCALE:GREGORIAN
METHOD:PUBLISH
X-WR-CALNAME:Robert Trebor
X-ORIGINAL-URL:https://roberttrebor.net
X-WR-CALDESC:Events for Robert Trebor
REFRESH-INTERVAL;VALUE=DURATION:PT1H
X-Robots-Tag:noindex
X-PUBLISHED-TTL:PT1H
BEGIN:VTIMEZONE
TZID:UTC
BEGIN:STANDARD
TZOFFSETFROM:+0000
TZOFFSETTO:+0000
TZNAME:UTC
DTSTART:20190101T000000
END:STANDARD
END:VTIMEZONE
BEGIN:VEVENT
DTSTART;TZID=UTC:20200316T183000
DTEND;TZID=UTC:20200316T193000
DTSTAMP:20260423T184831
CREATED:20200210T033957Z
LAST-MODIFIED:20200210T210737Z
UID:461-1584383400-1584387000@roberttrebor.net
SUMMARY:Philly Book Reading and Signing
DESCRIPTION:I’ll be reading and signing at Shakespeare and Co.\, \n1632 Walnut St.\, Rittenhouse Sq. \nCome out and have some fun!
URL:https://roberttrebor.net/event/philadalphia-book-signing/
LOCATION:Shakespeare & Co. Philly\, 1632 Walnut St.\, Rittenhouse Sq.\, Philadelphia\, PA\, 19103\, United States
END:VEVENT
BEGIN:VEVENT
DTSTART;TZID=UTC:20200312T183000
DTEND;TZID=UTC:20200312T193000
DTSTAMP:20260423T184831
CREATED:20191229T043831Z
LAST-MODIFIED:20200210T222033Z
UID:438-1584037800-1584041400@roberttrebor.net
SUMMARY:New York City Booking Reading / Signing
DESCRIPTION:Shakespeare and Co\, 939 Lexington Av. 6:30pm to 7:30pm
URL:https://roberttrebor.net/event/438/
LOCATION:Shakespeare & Co. NY\, 939 Lexington Av.\, New York City\, NY\, 10065\, United States
END:VEVENT
BEGIN:VEVENT
DTSTART;TZID=UTC:20200229T130000
DTEND;TZID=UTC:20200229T140000
DTSTAMP:20260423T184831
CREATED:20191201T234714Z
LAST-MODIFIED:20191202T222927Z
UID:373-1582981200-1582984800@roberttrebor.net
SUMMARY:Seattle Book Reading / Signing
DESCRIPTION:I’ll be doing a reading signing at the Barnes and Noble in the Northgate mall. \nShould be heaps o’ fun!
URL:https://roberttrebor.net/event/seattle-book-reading-signing/
LOCATION:Barnes and Noble\, 401 Northgate Way\, Seattle\, WA\, United States
END:VEVENT
BEGIN:VEVENT
DTSTART;TZID=UTC:20200220T180000
DTEND;TZID=UTC:20200220T190000
DTSTAMP:20260423T184831
CREATED:20191201T233801Z
LAST-MODIFIED:20191202T222942Z
UID:370-1582221600-1582225200@roberttrebor.net
SUMMARY:USC Bookstore Reading / Signing
DESCRIPTION:I’ll be doing a reading/signing at the USC Bookstore\, 840 Childs Way\, from 6:00pm to 7:00pm.Come out\, it’ll be fun.
URL:https://roberttrebor.net/event/usc-bookstore-reading-signing/
LOCATION:CA\, United States
END:VEVENT
BEGIN:VEVENT
DTSTART;TZID=UTC:20200203T180000
DTEND;TZID=UTC:20200203T190000
DTSTAMP:20260423T184831
CREATED:20191203T203144Z
LAST-MODIFIED:20191203T203418Z
UID:410-1580752800-1580756400@roberttrebor.net
SUMMARY:San Francisco Book Reading/ Signing
DESCRIPTION:I’m doing a reading and signing for The Haircut Who Would Be King 6-7 pm \nat Book Passage in the SF Ferry Building.  Come out and support dethroning Donnie!
URL:https://roberttrebor.net/event/san-francisco-book-reading-signing/
LOCATION:Book Passage\, 1 Ferry Building\, San Francisco\, CA\, 94111\, United States
END:VEVENT
BEGIN:VEVENT
DTSTART;TZID=UTC:20200202T110000
DTEND;TZID=UTC:20200202T113000
DTSTAMP:20260423T184831
CREATED:20191203T201827Z
LAST-MODIFIED:20191203T202046Z
UID:404-1580641200-1580643000@roberttrebor.net
SUMMARY:TV Broadcast Interview
DESCRIPTION:I’ll be on the KBCW-TV Sunday morning arts show Bay Area Focus talking about The Haircut Who Would Be King. \nTune in if you can.
URL:https://roberttrebor.net/event/tv-broadcast-interview/
LOCATION:KBCW-TV\, Channel 44\, San Francisco
END:VEVENT
END:VCALENDAR